BEGIN:VCALENDAR
VERSION:2.0
PRODID:-//Interlaken Classics//NONSGML kigkonsult.se iCalcreator 2.16.12//
METHOD:PUBLISH
X-MS-OLK-FORCEINSPECTOROPEN:TRUE
BEGIN:VEVENT
UID:20260422T115650CEST-3188FznPXN@Interlaken Classics
DTSTAMP:20260422T095650Z
DESCRIPTION:Das Festivalorchester von Interlaken Classics ist seit 10 Jahre
 n eng verbunden mit Musikern des weltberühmten Opernhauses von Odessa\, we
 lches seit Kriegsbeginn pausieren muss. Von Ende Mai bis Ende Juni werden 
 der Solobratschist Stas Sagdeyev und der Cellist Alexander Mikhailov mit w
 eiteren ukrainischen Musiker/innen Konzerte in der Schweiz\, in Liechtenst
 ein und in Deutschland spielen. Die Einnahmen der Konzerte fliessen vollum
 fänglich zugunsten der weltberühmten Oper in Odessa.\nDie Konzerte werden 
 u.a. vom Verein «LEGATO Bern-Odessa» und von Interlaken Classics organisie
 rt.\n\nKonzertort: Grandhotel Giessbach\, Brienz\, Salon Belle Epoque - Do
 nnerstag\, 2. Juni\, 20 Uhr\n\nMusiker/innen:\nStas Sagdeyev\, Viola\nAlex
 ander Mikhailov\, Violoncello\nValeriya Kurylchuk\, Violine\nKhanna Mikhai
 lova\, Violine\n\nProgramm:\n\nMozart: Streichquartett F-Dur\, KV 168\n  1
 . Allegro\n  2. Andante\n  3. Menuetto\n  4. Allegro\n\nPuccini: “Crisante
 mi” für Streichquartett\n\nVerdi: Streichquartett e-Moll (1873)\n  1. Alle
 gro\n  2. Andantino\n  3. Prestissimo\n  4. Scherzo. Fuga. Allegro assai m
 osso\n\nEintrittspreis: CHF 40.–\, unnummerierte Plätze\nZusätzlich besteh
 t die Möglichkeit\, mit der Ticketbestellung einen zusätzlichen (freiwilli
 gen) Beitrag in der Höhe von CHF 20.-\, 50.- oder 100.- zu spenden.\nTickb
 estellungen: www.kulturticket.ch\nVorgehen: Bestellen Sie die gewünschte A
 nzahl Tickets und Klicken auf den Button 'in den Warenkorb'. Dann erschein
 t eine Übersicht 'Zusatzleistungen' mit den drei zusätzlichen (freiwillige
 n) Spende-Optionen.\n\nGeniessen Sie ab 18.00 Uhr ein 3-Gang Abendessen (z
 usammengestellt von Küchenchef Lukas Stalder). Dieses kann separat zum Ein
 tritt direkt im Grandhotel Giessbach via Tel. 033 952 25 25 oder via Homep
 age www.giessbach.ch reserviert werden.\nFür weitere Informationen: Grandh
 otel Giessbach\, 3855 Brienz\, +41 (0)33 952 25 25\, www.giessbach.ch\n\n
 \nÜber die Künstler/innen:\n\nKhanna-Mariia Mykhailova ist die ebenfalls i
 n Odessa geborene Schwester des Cellisten. Seit sie zweijährig war\, träum
 te sie davon\, Geigerin zu werden\, als sie die unbeschreiblich fasziniere
 nden Werke hörte\, welche für dieses Instrument geschrieben wurden und ver
 liebte sich in diese Musik\, die sie auch selbst spielen wollte. Als 5-Jäh
 rige durfte sie selbst eine Geige in die Hand nehmen\, was dann ein Teil v
 on ihr wurde.\nTrotz des Krieges ist sie überzeugt\, dass die beste Waffe 
 der Musikerinnen und Musiker die Musik selbst und ihre Instrumente sind.\n
 \nStas Sgadeyev wurde in Odessa geboren. Seit seiner frühen Kindheit hörte
  er Opern im berühmten Opernhaus in Odessa\, wo seine Grossmutter als Pian
 istin und Korrepetitorin während über 40 Jahren mit unzähligen berühmten S
 ängerinnen und Sängern arbeitete.\nNach Studien in Odessa und an der Zürch
 er Hochschule der Künste wurde Stas erster Solobratschist in dem Opernhaus
  seiner Träume. Und nun führen ihn langjährige enge freundschaftlich kreat
 ive Verbindungen nach Bern zurück in die Schweiz für eine Konzerttour in d
 er Schweiz und benachbarte Länder\, um «sein» Opernhaus in dieser für die 
 Ukraine schwierigen Zeit zu unterstützen.\n\nAlexander Mykhailov wurde in 
 Odessa in eine Musikerfamilie geboren. Als er als Kind bei einem Symphonie
 konzert in der ersten Reihe vor der Cello-Gruppe sass\, war er unglaublich
  inspiriert durch die Schönheit des Instrumentes\, den noblen Klang und da
 s tiefe Timbre\, welches an die menschliche Stimme erinnert. Dies war der 
 Moment\, der sein Leben bestimmte. Er wollte Cellist\, Orchestermusiker un
 d Solist werden. Dieses Ziel führte ihn Jahre später in die Schweiz\, um a
 n der Hochschule der Künste Bern zu studieren\, wo er den Master Performan
 ce und anschliessend noch den Master Pädagogik an der Zürcher Hochschule d
 er Künste absolvierte.\nTrotz des Krieges in der Ukraine trägt ihn die Sch
 önheit der Musik\, welche die Herzen und die Seele der Menschen erfreut.\n
 \nValeriya Kurylchuk\, Violine\n... Text folgt ...\n\n\nÜber das Opernhaus
  Odessa (Text von der Theaterleitung):\n\nDas weltberühmte Opernhaus von O
 dessa\, der Stolz der Ukraine\, ist zweifellos eines der ersten Dinge\, di
 e einem in den Sinn kommen\, wenn man an Odessa denkt. Odessa - die Stadt\
 , die der Welt Oistrach\, Richter und andere herausragende Künstler schenk
 te.\n\n1887 von den Wiener Architekten Fellner und Helmer erbaut\, ist es 
 das älteste Theater der Ukraine und steht in einer Reihe mit den schönsten
  Theatern der Welt. Viele glorreiche Künstler traten hier auf: Sänger\, Mu
 siker und Dirigenten. Es scheint unfair\, irgendwelche Namen aufzulisten\,
  sonst wäre die Liste zu lang.\n\nDen besten Theatern in Wien\, Berlin und
  Dresden ebenbürtig und zur Zeit seiner Erbauung auf dem neuesten Stand de
 r Theatertechnik\, entspricht das Theater heute den modernsten Anforderung
 en für komplexeste Produktionen. Ergänzt wird es durch ein professionelles
  Kreativteam und ein modernes Repertoire von über 80 Titeln.\n\nSeit Krieg
 sbeginn sind die Türen des Theaters für das Publikum geschlossen. Es wäre 
 zu riskant\, die Menschen die Aufführungen geniessen zu lassen\, wenn niem
 and weiss\, was in der nächsten Minute passieren könnte. Das kreative Lebe
 n geht jedoch weiter. Die Künstler proben für Auftritte an verschiedenen O
 rten in der Stadt. Trotz des Krieges wollen die Menschen sehen\, dass sie 
 ihr Bestes geben. Singen\, spielen\, performen. Ausserdem ist jetzt jeder 
 Auftritt\, den sie geben\, ein Manifest gegen den Krieg. Dank der herausra
 genden langjährigen freundschaftlichen Verbindungen mit Herrn Werner Schmi
 tt vom Verein LEGATO Bern-Odessa und der Unterstützung des Vorstandes der 
 Interlaken Classics bringen wir Ihnen die Botschafter des Opernhauses Odes
 sa:\n\nStas Sagdeyev\, Solobratschist des Opernorchesters Odessa und des F
 estival-Orchesters der Interlaken Classics\nAlexander Mikhailov\, Violonce
 llo\, Mitglied des Opernorchesters Odessa und Absolvent der Hochschule der
  Künste Bern\n\nWeblink: Oper Odessa\n\n\n\n\n\n\n\n\n\n\n 
DTSTART:20220602T200000
DTEND:20220602T220000
LOCATION:Grandhotel Giessbach
ORGANIZER:MAILTO:Interlaken Classics <info@interlaken-classics.ch>
SUMMARY:Konzert für den Frieden (Giessbach)
END:VEVENT
END:VCALENDAR
