BEGIN:VCALENDAR
VERSION:2.0
PRODID:-//Interlaken Classics//NONSGML kigkonsult.se iCalcreator 2.16.12//
METHOD:PUBLISH
X-MS-OLK-FORCEINSPECTOROPEN:TRUE
BEGIN:VEVENT
UID:20260422T115650CEST-8040WclJMe@Interlaken Classics
DTSTAMP:20260422T095650Z
DESCRIPTION:Das Festivalorchester von Interlaken Classics ist seit 10 Jahre
 n eng verbunden mit Musikern des weltberühmten Opernhauses von Odessa\, we
 lches seit Kriegsbeginn pausieren muss. Von Ende Mai bis Ende Juni werden 
 der Solobratschist Stas Sagdeyev und der Cellist Alexander Mikhailov mit w
 eiteren ukrainischen Musiker/innen Konzerte in der Schweiz\, in Liechtenst
 ein und in Deutschland spielen. Die Einnahmen der Konzerte fliessen vollum
 fänglich zugunsten der weltberühmten Oper in Odessa.\nDie Konzerte werden 
 u.a. vom Verein «LEGATO Bern-Odessa» und von Interlaken Classics organisie
 rt.\n\nKonzertort: Zentrum Artos\, Interlaken\, Saal Quelle - Freitag\, 3.
  Juni\, 20 Uhr\n\nMusiker/innen:\nStas Sagdeyev\, Viola\nAlexander Mikhail
 ov\, Violoncello\nValeriya Kurylchuk\, Violine\nKhanna Mikhailova\, Violin
 e\n\nProgramm:\n\nMozart: Streichquartett F-Dur\, KV 168\n  1. Allegro\n  
 2. Andante\n  3. Menuetto\n  4. Allegro\n\nPuccini: “Crisantemi” für Strei
 chquartett\n\nVerdi: Streichquartett e-Moll (1873)\n  1. Allegro\n  2. And
 antino\n  3. Prestissimo\n  4. Scherzo. Fuga. Allegro assai mosso\n\nEintr
 ittspreis: CHF 40.–\, unnummerierte Plätze\nZusätzlich besteht die Möglich
 keit\, mit der Ticketbestellung einen zusätzlichen (freiwilligen) Beitrag 
 in der Höhe von CHF 20.-\, 50.- oder 100.- zu spenden.\nTickbestellungen: 
 www.kulturticket.ch\nVorgehen: Bestellen Sie die gewünschte Anzahl Tickets
  und Klicken auf den Button 'in den Warenkorb'. Dann erscheint eine Übersi
 cht 'Zusatzleistungen' mit den drei zusätzlichen (freiwilligen) Spende-Opt
 ionen.\n\n​​​​​​​\nÜber die Künstler/innen:\n\nKhanna-Mariia Mykhailova is
 t die ebenfalls in Odessa geborene Schwester des Cellisten. Seit sie zweij
 ährig war\, träumte sie davon\, Geigerin zu werden\, als sie die unbeschre
 iblich faszinierenden Werke hörte\, welche für dieses Instrument geschrieb
 en wurden und verliebte sich in diese Musik\, die sie auch selbst spielen 
 wollte. Als 5-Jährige durfte sie selbst eine Geige in die Hand nehmen\, wa
 s dann ein Teil von ihr wurde.\nTrotz des Krieges ist sie überzeugt\, dass
  die beste Waffe der Musikerinnen und Musiker die Musik selbst und ihre In
 strumente sind.\n\nStas Sgadeyev wurde in Odessa geboren. Seit seiner früh
 en Kindheit hörte er Opern im berühmten Opernhaus in Odessa\, wo seine Gro
 ssmutter als Pianistin und Korrepetitorin während über 40 Jahren mit unzäh
 ligen berühmten Sängerinnen und Sängern arbeitete.\nNach Studien in Odessa
  und an der Zürcher Hochschule der Künste wurde Stas erster Solobratschist
  in dem Opernhaus seiner Träume. Und nun führen ihn langjährige enge freun
 dschaftlich kreative Verbindungen nach Bern zurück in die Schweiz für eine
  Konzerttour in der Schweiz und benachbarte Länder\, um «sein» Opernhaus i
 n dieser für die Ukraine schwierigen Zeit zu unterstützen.\n\nAlexander My
 khailov wurde in Odessa in eine Musikerfamilie geboren. Als er als Kind be
 i einem Symphoniekonzert in der ersten Reihe vor der Cello-Gruppe sass\, w
 ar er unglaublich inspiriert durch die Schönheit des Instrumentes\, den no
 blen Klang und das tiefe Timbre\, welches an die menschliche Stimme erinne
 rt. Dies war der Moment\, der sein Leben bestimmte. Er wollte Cellist\, Or
 chestermusiker und Solist werden. Dieses Ziel führte ihn Jahre später in d
 ie Schweiz\, um an der Hochschule der Künste Bern zu studieren\, wo er den
  Master Performance und anschliessend noch den Master Pädagogik an der Zür
 cher Hochschule der Künste absolvierte.\nTrotz des Krieges in der Ukraine 
 trägt ihn die Schönheit der Musik\, welche die Herzen und die Seele der Me
 nschen erfreut.\n\nValeriya Kurylchuk\, Violine\n... Text folgt ...\n\n\nÜ
 ber das Opernhaus Odessa (Text von der Theaterleitung):\n\nDas weltberühmt
 e Opernhaus von Odessa\, der Stolz der Ukraine\, ist zweifellos eines der 
 ersten Dinge\, die einem in den Sinn kommen\, wenn man an Odessa denkt. Od
 essa - die Stadt\, die der Welt Oistrach\, Richter und andere herausragend
 e Künstler schenkte.\n\n1887 von den Wiener Architekten Fellner und Helmer
  erbaut\, ist es das älteste Theater der Ukraine und steht in einer Reihe 
 mit den schönsten Theatern der Welt. Viele glorreiche Künstler traten hier
  auf: Sänger\, Musiker und Dirigenten. Es scheint unfair\, irgendwelche Na
 men aufzulisten\, sonst wäre die Liste zu lang.\n\nDen besten Theatern in 
 Wien\, Berlin und Dresden ebenbürtig und zur Zeit seiner Erbauung auf dem 
 neuesten Stand der Theatertechnik\, entspricht das Theater heute den moder
 nsten Anforderungen für komplexeste Produktionen. Ergänzt wird es durch ei
 n professionelles Kreativteam und ein modernes Repertoire von über 80 Tite
 ln.\n\nSeit Kriegsbeginn sind die Türen des Theaters für das Publikum gesc
 hlossen. Es wäre zu riskant\, die Menschen die Aufführungen geniessen zu l
 assen\, wenn niemand weiss\, was in der nächsten Minute passieren könnte. 
 Das kreative Leben geht jedoch weiter. Die Künstler proben für Auftritte a
 n verschiedenen Orten in der Stadt. Trotz des Krieges wollen die Menschen 
 sehen\, dass sie ihr Bestes geben. Singen\, spielen\, performen. Ausserdem
  ist jetzt jeder Auftritt\, den sie geben\, ein Manifest gegen den Krieg. 
 Dank der herausragenden langjährigen freundschaftlichen Verbindungen mit H
 errn Werner Schmitt vom Verein LEGATO Bern-Odessa und der Unterstützung de
 s Vorstandes der Interlaken Classics bringen wir Ihnen die Botschafter des
  Opernhauses Odessa:\n\nStas Sagdeyev\, Solobratschist des Opernorchesters
  Odessa und des Festival-Orchesters der Interlaken Classics\nAlexander Mik
 hailov\, Violoncello\, Mitglied des Opernorchesters Odessa und Absolvent d
 er Hochschule der Künste Bern\n\nWeblink: Oper Odessa\n\n\n\n\n\n\n\n\n\n
 \n 
DTSTART:20220603T200000
DTEND:20220603T220000
LOCATION:Zentrum Artos
ORGANIZER:MAILTO:Interlaken Classics <info@interlaken-classics.ch>
SUMMARY:Konzert für den Frieden (Interlaken)
END:VEVENT
END:VCALENDAR
