BEGIN:VCALENDAR
VERSION:2.0
PRODID:-//Interlaken Classics//NONSGML kigkonsult.se iCalcreator 2.16.12//
METHOD:PUBLISH
X-MS-OLK-FORCEINSPECTOROPEN:TRUE
BEGIN:VEVENT
UID:20260420T175216CEST-5809U5NWCf@Interlaken Classics
DTSTAMP:20260420T155216Z
DESCRIPTION:1. Sinfoniekonzert - Zakhar Bron Festival Orchestra\nLeitung: D
 avid Garrett\, Anna Handler und Zakhar Bron\nSolisten: David Garrett\, Vio
 line & Olga Scheps\, Klavier\n\nProgramm:\nAntonín Dvorˇák (1841 – 1904)\n
 «Largo» aus der Sinfonie Nr. 9 «Aus der neuen Welt»\n\nFranz Schubert (179
 7 – 1828)\nSinfonie Nr. 7\, h-Moll\, D 759\, «Unvollendete» \n   Allegro m
 oderato\n   Andante con moto\n*****\nDavid Garrett /John Haywood: Klavierk
 onzert «One World» \n   Maestoso con brio\n   Intermezzo delicatemente e g
 razioso\n   Furioso risoluto\n\nChristoph Willibald Gluck (1714 – 1787)\nM
 elodie aus «Orpheus und Euridike» (Solist: David Garrett)\n\nFritz Kreisle
 r (1875 – 1962)\n- Liebesleid (Solist: David Garrett)\n- Tempo di Minuetto
  (Solist: David Garrett) \n\nEintrittspreise: 180.- / 140.- / 120.- / 100.
 - / 80.- / 60.-\n\nTipp 1: Buchen Sie das Package mit Hotelübernachtung un
 d Konzertticket. Details finden Sie hier.\nTipp 2: Buchen Sie ein einmalig
 es Gourmet-Erlebnis dazu. Details finden Sie hier.\n\nAnna Handler ist ein
 e deutsch-kolumbianische Dirigentin und Pianistin. Vor kurzem wurde sie vo
 m Los Angeles Philharmonic für die Saison 2023/2024 zur Dudamel Fellow (St
 ipendiatin) ernannt. Im Februar 2024 wird sie mit dem LA Phil in der legen
 dären Walt Disney Concert Hall ihre Premiere feiern!\nHandler schloss im M
 ai 2023 ihr Studium an der Juilliard School in New York ab\, wo sie als er
 ste Dirigentin überhaupt das Juilliard Kovner Fellowship für herausragende
  Student/innen der klassischen Musik erhielt.\nIn der Saison 2023/24 wird 
 Handler zu den Salzburger Festspielen zurückkehren und eine Produktion von
  'L'enfant et les sortilèges' von Maurice Ravel dirigieren. Weitere Höhepu
 nkte sind ihr Debüt mit dem BBC Philharmonic Orchestra\, den Grazer Philha
 rmonikern und dem Münchner Rundfunkorchester. Bereits in der Saison 2022/2
 3 debütierte sie mit dem Deutschen Symphonie-Orchester Berlin\, dem Sinfon
 ieorchester Liechtenstein und der Mecklenburgischen Staatskapelle Schwerin
 . Sie arbeitete als Assistentin renommierter Dirigenten wie Daniel Harding
  oder Kirill Petrenko\, für den sie unter anderem die Bühnenmusik für die 
 konzertante Opernproduktion 'Mazeppa' mit den Berliner Philharmonikern dir
 igierte. In ihrer noch jungen Karriere hat sie bereits mit so berühmten So
 listen wie Arabella Steinbacher\, Daniel Müller-Schott und Sabine Meyer zu
 sammen gearbeitet.\n\nOlga Scheps unterzeichnete 2009 bei Sony einen Exklu
 sivvertrag und veredelte diesen prompt mit einem Echo Klassik für ihre Deb
 üt-CD mit Werken von Chopin. Sie wird für ihre technische Brillanz\, ihre 
 musikalische Sensibilität und ihre leidenschaftliche Darbietung gelobt. Si
 e ist ein gefragter Gast bei Festivals wie Rheingau Musik Festival\, Fests
 piele Mecklenburg-Vorpommern\, Schleswig-Holstein Musik Festival\, Lucerne
  Festival am Piano oder Menuhin Festival Gstaad.\n\nZakhar Bron Festival O
 rchestra\nIm 2011 gegründeten Zakhar Bron Chamber Orchestra vereint Zakhar
  Bron internationale Meisterschüler\, allesamt angehende Solistinnen und S
 olisten mit vielversprechender Perspektive\, zu einem einzigartigen Klangk
 örper. Das Orchester überzeugt mit einer fast nicht zu überbietenden musik
 alischen Qualität und Virtuosität. Ein Zusammenspiel von Perfektion\, Hing
 abe und Leidenschaft. 2015 debütierte das Orchester in der Berliner Philha
 rmonie\, in der Kölner Philharmonie und im Concertgebouw Amsterdam. Das fü
 r Interlaken Classics zu einem Sinfonieorchester erweiterte Ensemble konze
 rtierte mit berühmten Künstlern wie Sabine Meyer\, Alice Sara Ott\, Daniel
  Hope\, Natalia Gutman\, Konstantin Lifschitz oder Mischa Maisky. Eine Tou
 rnee anlässlich des 70. Geburtstags von Zakhar Bron führte das Orchester i
 m Dezember 2017 von Baden nach Berlin\, Düsseldorf und Rotterdam. Viele eh
 emalige Studenten wie Maxim Vengerov\, David Garrett oder Vadim Repin trat
 en dabei als Solisten auf.\n\n\n\n\n\n
DTSTART:20240331T170000
DTEND:20240331T190000
LOCATION:Congress Kursaal Interlaken
ORGANIZER:MAILTO:Interlaken Classics <info@interlaken-classics.ch>
SUMMARY:1. Sinfoniekonzert - Zakhar Bron Festival Orchestra
END:VEVENT
END:VCALENDAR
