BEGIN:VCALENDAR
VERSION:2.0
PRODID:-//Interlaken Classics//NONSGML kigkonsult.se iCalcreator 2.16.12//
METHOD:PUBLISH
X-MS-OLK-FORCEINSPECTOROPEN:TRUE
BEGIN:VEVENT
UID:20260422T131814CEST-80525GU497@Interlaken Classics
DTSTAMP:20260422T111814Z
DESCRIPTION:Interlaken Classics Sextet\n\nArsenis Selalmazidis and Aleksey 
 Semenenko\, violin\; Stas Sagdyeyev and Karine Vardanian\, viola\; Stamen 
 Nikolov and Junko Fujii\, cello\n\nProgramm:\n\nJohannes Brahms (1833-1897
 )\nString Sextet No. 1 op. 18\n\n*** Intermission ***\n\nRichard Strauss (
 1864-1949)\nSextet from Capriccio op. 85\n\nBohuslav Martinu (1890-1959)\n
 String Sextet H.224\n\nDuration: ca. 90 min. (incl. intermission)\nTicket 
 price: CHF 50.–\, free seating\n \n\n\n
DTSTART:20220603T200000
DTEND:20220603T220000
LOCATION:Zentrum Artos
ORGANIZER:MAILTO:Interlaken Classics <info@interlaken-classics.ch>
SUMMARY:Interlaken Classics Sextet
END:VEVENT
END:VCALENDAR
