BEGIN:VCALENDAR
VERSION:2.0
PRODID:-//Interlaken Classics//NONSGML kigkonsult.se iCalcreator 2.16.12//
METHOD:PUBLISH
X-MS-OLK-FORCEINSPECTOROPEN:TRUE
BEGIN:VEVENT
UID:20260421T101524CEST-4333WVvl4T@Interlaken Classics
DTSTAMP:20260421T081524Z
DESCRIPTION:Interlaken Classics Sextet\n\nAleksey Semenenko and Christel Le
 e\, violin\; Stas Sagdeyev and Karine Vardanian\, viola\; Stamen Nikolov a
 nd Junko Fujii\, cello\n\nProgramm:\n\nBrahms: Streichsextett Nr. 2 G-Dur 
 op. 36\nSchubert: Streichquintett C-Dur op. post. 163\, D 956\n\nDuration:
  ca. 100 min. (incl. intermission)\nTicket price: CHF 50.–\, free seating
 \n\n\n\n\n\n\n\n \n
DTSTART:20230402T170000
DTEND:20230402T190000
LOCATION:Grandhotel Giessbach
ORGANIZER:MAILTO:Interlaken Classics <info@interlaken-classics.ch>
SUMMARY:Interlaken Classics Sextet
END:VEVENT
END:VCALENDAR
