BEGIN:VCALENDAR
VERSION:2.0
PRODID:-//Interlaken Classics//NONSGML kigkonsult.se iCalcreator 2.16.12//
METHOD:PUBLISH
X-MS-OLK-FORCEINSPECTOROPEN:TRUE
BEGIN:VEVENT
UID:20260420T192225CEST-68528h7uNj@Interlaken Classics
DTSTAMP:20260420T172225Z
DESCRIPTION:1st Symphony Concert - Zakhar Bron Festival Orchestra\nDirectio
 n: Anna Handler and Zakhar Bron\nSoloists: David Garret\, violin & Olga Sc
 heps\, piano\n\nAdmission prices: CHF 180.- / 140.- / 120.- / 100.- / 80.-
  / 60.-\n\nProgramm:\nDvorak                                            «L
 argo»\, aus Sinfonie Nr. 9 «Aus der neuen Welt» (2. Satz)\nSchubert       
                                   Sinfonie Nr. 7. h-Moll D 759 'Unvollende
 te'\n****\nDavid Garrett/John R. Haywood    Klavierkonzert «One World»\nGl
 uck                                              Melodie aus «Orpheus und 
 Euridike» (Solist: David Garrett)\nKreisler                               
             Liebesleid (Solist: David Garrett)\nKreisler                  
                          Tempo di Minuetto (Solist: David Garrett)\n\nAnna
  Handler is a German-Colombian conductor and pianist. She was recently nam
 ed a Dudamel Fellow by the Los Angeles Philharmonic for the 2023-2024 seas
 on. In February 2024 she will celebrate her premiere with the LA Phil at t
 he legendary Walt Disney Concert Hall!\nHandler graduated from the Juillia
 rd School in New York in May 2023\, where she became the first conductor e
 ver to receive the Juilliard Kovner Fellowship for outstanding students of
  classical music.\nIn the 2023/24 season\, Handler will return to the Salz
 burg Festival and conduct a production of 'L'enfant et les sortilèges' by 
 Maurice Ravel. Other highlights include her debut with the BBC Philharmoni
 c Orchestra\, the Graz Philharmonic Orchestra and the Munich Radio Orchest
 ra. She made her debut in the 2022/23 season with the German Symphony Orch
 estra Berlin\, the Liechtenstein Symphony Orchestra and the Mecklenburgisc
 he Staatskapelle Schwerin. She worked as an assistant to renowned conducto
 rs such as Daniel Harding and Kirill Petrenko\, for whom she conducted\, a
 mong other things\, the incidental music for the concert opera production 
 'Mazeppa' with the Berlin Philharmonic. In her young career she has alread
 y worked with such famous soloists as Arabella Steinbacher\, Daniel Müller
 -Schott and Sabine Meyer.\n\nOlga Scheps was born in 1986 into a Jewish fa
 mily in Moscow\; both of her parents were born in Ukraine. She has lived i
 n Germany with her family since 1992.\nThe pianist has performed with reno
 wned orchestras such as the Orchester Philharmonique de Monte-Carlo\, the 
 Munich Symphony Orchestra\, the Zurich Chamber Orchestra\, the NDR Radioph
 ilharmonie\, the Prague Philharmonia\, the Israel Philharmonic Orchestra\,
  the New Japan Philharmonic Orchestra\, and the Braunschweig State Orchest
 ra.\nShe is a sought-after guest at festivals such as the Rheingau Music F
 estival\, the Mecklenburg-Western Pomerania Festival\, the Kissinger Summe
 r\, the Ruhr Piano Festival\, the Schleswig-Holstein Music Festival\, the 
 Lucerne Festival am Piano and the Menuhin Festival Gstaad.\nAs a passionat
 e chamber musician\, Olga Scheps performs with artists such as Alban Gerha
 rdt\, Daniel Hope\, Adrian Brendel and Nils Mönkemeyer.\nOlga Scheps has b
 een an exclusive artist at Sony Classical since 2009. Her debut album “Cho
 pin” immediately won an ECHO Klassik. Among many other recordings\, her al
 bum “Satie” for the French composer’s 150th birthday immediately landed at
  number 1 in the German classical music charts.\n\nZakhar Bron Festival Or
 chestra\nIn the Zakhar Bron Chamber Orchestra\, founded in 2011\, Zakhar B
 ron brings together international master students\, all aspiring soloists 
 with promising perspectives\, to form a unique ensemble. The orchestra imp
 resses with a musical quality and virtuosity that is almost unbeatable. An
  interplay of perfection\, dedication and passion. In 2015 the orchestra m
 ade its debut in the Berlin Philharmonic\, the Cologne Philharmonic and th
 e Concertgebouw Amsterdam. The ensemble\, expanded into a symphony orchest
 ra for Interlaken Classics\, performed with famous artists such as Sabine 
 Meyer\, Alice Sara Ott\, Daniel Hope\, Natalia Gutman\, Konstantin Lifschi
 tz and Mischa Maisky. A tour to mark Zakhar Bron's 70th birthday took the 
 orchestra from Baden to Berlin\, Düsseldorf and Rotterdam in December 2017
 . Many former students such as Maxim Vengerov\, David Garrett and Vadim Re
 pin appeared as soloists.\n\n\n\n\n\n
DTSTART:20240331T170000
DTEND:20240331T190000
LOCATION:Congress Kursaal Interlaken
ORGANIZER:MAILTO:Interlaken Classics <info@interlaken-classics.ch>
SUMMARY:1st Symphony Concert - Zakhar Bron Festival Orchestra
END:VEVENT
END:VCALENDAR
